BEGIN:VCALENDAR
VERSION:2.0
PRODID:-//hacksw/handcal//NONSGML v1.0//EN
BEGIN:VEVENT
SUMMARY:reunion en visio
UID:817f1011-4e6a-4790-8d0a-b2a03a71aeb1
DTSTART:20260604T183000Z
DTEND:20260604T193000Z
LOCATION:Localisation   
CATEGORIES:Administratif
STATUS:
URL;VALUE=URI:https://www.badminton71.com/evenements/2026/06/04/reunion-en-visio-2440280
END:VEVENT
END:VCALENDAR
