BEGIN:VCALENDAR
VERSION:2.0
PRODID:-//hacksw/handcal//NONSGML v1.0//EN
BEGIN:VEVENT
SUMMARY:reunion en visio
UID:c239ca1f-d99f-4021-a3fd-ed67280c237a
DTSTART:20260402T183000Z
DTEND:20260402T193000Z
LOCATION:Localisation   
CATEGORIES:Administratif
STATUS:
URL;VALUE=URI:https://www.badminton71.com/evenements/2026/04/02/reunion-en-visio-2440278
END:VEVENT
END:VCALENDAR
